BEGIN:VCALENDAR
VERSION:2.0
PRODID:-//Green Newton - ECPv6.15.18//NONSGML v1.0//EN
CALSCALE:GREGORIAN
METHOD:PUBLISH
X-WR-CALNAME:Green Newton
X-ORIGINAL-URL:https://greennewton.org
X-WR-CALDESC:Events for Green Newton
REFRESH-INTERVAL;VALUE=DURATION:PT1H
X-Robots-Tag:noindex
X-PUBLISHED-TTL:PT1H
BEGIN:VTIMEZONE
TZID:America/New_York
BEGIN:DAYLIGHT
TZOFFSETFROM:-0500
TZOFFSETTO:-0400
TZNAME:EDT
DTSTART:20250309T070000
END:DAYLIGHT
BEGIN:STANDARD
TZOFFSETFROM:-0400
TZOFFSETTO:-0500
TZNAME:EST
DTSTART:20251102T060000
END:STANDARD
BEGIN:DAYLIGHT
TZOFFSETFROM:-0500
TZOFFSETTO:-0400
TZNAME:EDT
DTSTART:20260308T070000
END:DAYLIGHT
BEGIN:STANDARD
TZOFFSETFROM:-0400
TZOFFSETTO:-0500
TZNAME:EST
DTSTART:20261101T060000
END:STANDARD
BEGIN:DAYLIGHT
TZOFFSETFROM:-0500
TZOFFSETTO:-0400
TZNAME:EDT
DTSTART:20270314T070000
END:DAYLIGHT
BEGIN:STANDARD
TZOFFSETFROM:-0400
TZOFFSETTO:-0500
TZNAME:EST
DTSTART:20271107T060000
END:STANDARD
END:VTIMEZONE
BEGIN:VEVENT
DTSTART;TZID=America/New_York:20260110T110000
DTEND;TZID=America/New_York:20260110T150000
DTSTAMP:20260421T220412
CREATED:20260108T170706Z
LAST-MODIFIED:20260131T020340Z
UID:10000045-1768042800-1768057200@greennewton.org
SUMMARY:Winter Seed Sowing Workshop
DESCRIPTION:Saturday\, January 10\, 11am-12:30pm or 1:30-3pm. Newton Free Library (330 Homer Street\, Newton). \nThis workshop will give you the tools you need to spark your own pollinator garden. Soil\, native seeds and one empty one-gallon milk jug will be provided\, and you will get to bring home your own mini-greenhouse in a bottle. You are invited to bring an extra one or two empty milk jugs if you want to plant and bring home a variety of seeds. \nWinter seed sowing is a technique for starting native plant seeds outdoors in containers during winter to create optimal conditions for germination and growth when spring returns. It mimics the natural process of seeds falling to the ground in autumn and being stratified by New England’s cold and wet winter weather\, while providing protection from critters and adverse weather\, resulting in a very high germination success rate. \nThere will be two identical sessions of this workshop. Please sign up for either the morning session (11am-12:30pm) or the afternoon session (1:30-3pm). \nSign Up for Morning Session \nSign Up for Afternoon Session \nThe program is co-sponsored by the Newton Free Library\, Newton Community Pollinator Project (NCPP)\, Newton Conservators\, and Friends of Cold Spring Park.
URL:https://greennewton.org/event/winter-seed-sowing-workshop/
LOCATION:MA
ATTACH;FMTTYPE=image/png:https://greennewton.org/wp-content/uploads/2025/12/seedling.png
END:VEVENT
BEGIN:VEVENT
DTSTART;TZID=America/New_York:20260113T193000
DTEND;TZID=America/New_York:20260113T210000
DTSTAMP:20260421T220412
CREATED:20260108T170523Z
LAST-MODIFIED:20260218T211838Z
UID:10000043-1768332600-1768338000@greennewton.org
SUMMARY:Green Drinks January 2026
DESCRIPTION:Join us January 13th at 7:30pm for Green Drinks at Baramor in Newton Centre. \nWant to meet others who care about the environment as much as you do? Head over to Baramor for the last Newton Green Drinks of the year. It’s a fun\, casual evening with people who are passionate about building a sustainable Newton – and beyond. Hope to see you there! \nIf you’d like to be notified about future gatherings\, contact organizer Brian Hodgson. \n 
URL:https://greennewton.org/event/green-drinks-january-2026/
LOCATION:MA
ATTACH;FMTTYPE=image/png:https://greennewton.org/wp-content/uploads/2026/01/Green-Drinks-Template-16-x-9-in.png
END:VEVENT
BEGIN:VEVENT
DTSTART;TZID=America/New_York:20260128T190000
DTEND;TZID=America/New_York:20260128T200000
DTSTAMP:20260421T220412
CREATED:20260108T170707Z
LAST-MODIFIED:20260202T145514Z
UID:10000047-1769626800-1769630400@greennewton.org
SUMMARY:The Problem with Plastic: How We Can Save Ourselves & Our Planet Before It’s Too Late
DESCRIPTION:Wednesday\, January 28\, 7pm. Online. \nPlastic production has increased exponentially since single-use plastic’s start\, from 2 million tons per year in 1950 to 450 million tons per year today. And production is expected to triple by 2060. Given that less than 6% of plastic is actually recycled in the United States\, all that plastic will continue to harm us\, our communities\, and our environment. \nThe good news is there’s still time to turn off the tap and live in a world without pointless plastic. That’s the hopeful message at the heart of the new book\, The Problem with Plastic: How We Can Save Ourselves and Our Planet Before It’s Too Late (December 2\, 2025\, The New Press).  Join co-authors Judith Enck\, Melissa Valliant\, and Adam Mahoney to learn more about the plastic pollution crisis and the solutions outlined in this bold new book. \nREGISTER
URL:https://greennewton.org/event/plastic-how-we-can-save-ourselves-our-planet-before-its-too-late/
LOCATION:MA
ATTACH;FMTTYPE=image/png:https://greennewton.org/wp-content/uploads/2026/01/plastic-1.png
END:VEVENT
END:VCALENDAR