BEGIN:VCALENDAR
VERSION:2.0
PRODID:-//Green Newton - ECPv6.15.18//NONSGML v1.0//EN
CALSCALE:GREGORIAN
METHOD:PUBLISH
X-WR-CALNAME:Green Newton
X-ORIGINAL-URL:https://greennewton.org
X-WR-CALDESC:Events for Green Newton
REFRESH-INTERVAL;VALUE=DURATION:PT1H
X-Robots-Tag:noindex
X-PUBLISHED-TTL:PT1H
BEGIN:VTIMEZONE
TZID:America/New_York
BEGIN:DAYLIGHT
TZOFFSETFROM:-0500
TZOFFSETTO:-0400
TZNAME:EDT
DTSTART:20250309T070000
END:DAYLIGHT
BEGIN:STANDARD
TZOFFSETFROM:-0400
TZOFFSETTO:-0500
TZNAME:EST
DTSTART:20251102T060000
END:STANDARD
BEGIN:DAYLIGHT
TZOFFSETFROM:-0500
TZOFFSETTO:-0400
TZNAME:EDT
DTSTART:20260308T070000
END:DAYLIGHT
BEGIN:STANDARD
TZOFFSETFROM:-0400
TZOFFSETTO:-0500
TZNAME:EST
DTSTART:20261101T060000
END:STANDARD
BEGIN:DAYLIGHT
TZOFFSETFROM:-0500
TZOFFSETTO:-0400
TZNAME:EDT
DTSTART:20270314T070000
END:DAYLIGHT
BEGIN:STANDARD
TZOFFSETFROM:-0400
TZOFFSETTO:-0500
TZNAME:EST
DTSTART:20271107T060000
END:STANDARD
END:VTIMEZONE
BEGIN:VEVENT
DTSTART;TZID=America/New_York:20260224T190000
DTEND;TZID=America/New_York:20260224T203000
DTSTAMP:20260421T220713
CREATED:20260130T171615Z
LAST-MODIFIED:20260303T145149Z
UID:10000049-1771959600-1771965000@greennewton.org
SUMMARY:Managing Invasive Plants in Your Yard
DESCRIPTION:Learn about our most common invasive plants and how to manage them by prioritizing your goals in this free webinar. Private landowners are essential to help us combat invasive plants and promote a healthy landscape. \nThis event is sponsored by Massachusetts Pollinator Network.\nRegister
URL:https://greennewton.org/event/learn-about-managing-invasive-plants-in-your-yard/
LOCATION:
ATTACH;FMTTYPE=image/jpeg:https://greennewton.org/wp-content/uploads/2026/01/invasives-2-24.jpg
END:VEVENT
BEGIN:VEVENT
DTSTART;TZID=America/New_York:20260222T180000
DTEND;TZID=America/New_York:20260222T200000
DTSTAMP:20260421T220713
CREATED:20260214T231848Z
LAST-MODIFIED:20260216T133153Z
UID:10000059-1771783200-1771790400@greennewton.org
SUMMARY:All Welcome at the UU Plant-Based Eating Club Potluck
DESCRIPTION:The UU Plant-Based Eating Club is hosting a large potluck\, and those curious about Plant-Based eating\, or want to have a great plant-based meal and chat with other people at the potluck\, are welcome to attend. Learn more here. \nWhile the UU Plant-Based Eating Club intentionally welcomes newcomers and anyone who is interested in eating more plant-based food regardless of where they are on their journey\, all items brought to their potlucks must be completely plant-based and contain no cheese\, dairy\, eggs\, etc. Recipe suggestions are available. More information about the Plant-Based Eating Club is available here. \nAbout the UU Plant-Based Eating Club:\nThe UU Plant-Based Eating Club is composed of over 160 people who share a desire to reduce their reliance on animal products in their diets and enjoy eating healthy\, whole\, and nutritious food. While we are housed at First Unitarian Universalist Society in Newton (FUUSN)\, we welcome anyone who is UU or aligned with UU shared values and who desires to learn about and eat nutritious and delicious plant-based\, whole food meals. You do not need to follow a plant-based diet to join\, although only plant-based food is served at our events. The potluck dinners are a great way to get to know people\, pick up some terrific recipes\, and explore how plant-based cooking benefits the environment\, our health\, and the animals with whom we share this beautiful planet. More information is at our page on the FUUSN website. \nAbout FUUSN: \nFirst Unitarian Universalist Society in Newton (FUUSN) is a Newton congregation with liberal and progressive theologies. Founded in 1848\, for over 175 years\, FUUSN has nurtured the spiritualities of its members and served the greater Newton community. Sunday services are held each week at 10:15 in person and on zoom.
URL:https://greennewton.org/event/uu-plant-based-eating-club-potluck/
LOCATION:First Unitarian Universalist Society in Newton\, 1326 Washington Street\, West Newton\, MA
CATEGORIES:Newsletter
ATTACH;FMTTYPE=image/png:https://greennewton.org/wp-content/uploads/2026/02/Untitled-design-9.png
END:VEVENT
BEGIN:VEVENT
DTSTART;TZID=America/New_York:20260222T170000
DTEND;TZID=America/New_York:20260222T180000
DTSTAMP:20260421T220713
CREATED:20260214T233910Z
LAST-MODIFIED:20260215T000406Z
UID:10000060-1771779600-1771783200@greennewton.org
SUMMARY:What’s in Your Energy Bill & What Can the State Do?
DESCRIPTION:Energy affordability is a key issue right now: bills are sky rocketing\, and the Massachusetts State Legislature wants to do something to respond to concerned residents. But what is best for ordinary voters? \nCome find out what’s actually in your energy bill and learn about energy-affordability bills at the statehouse\, so you can talk effectively with your legislators about the best energy affordability measures for us all. There will be time for Q&A. \nSpeakers: \n\nJamie Van Nostrand\, Future of Heat Initiative – What’s in Your Bill?\nCarrie Katan\, Green Energy Consumers Alliance – What Does Mass Saves Do?\nVick Mohanka Sierra Club Massachusetts – What Is the State Legislature Considering?\n\nLearn more on the Newton Democratic City Committee website.\nQuestions? Contact Melissa Brown\, Environmental Committee Co-Chair. This event is  a webinar in the “What Voters Should Know This Election Year” Series\nby the Environmental Committee of the  Newton Democratic City Committee. \nRegister
URL:https://greennewton.org/event/whats-in-your-energy-bill-what-can-the-state-do/
LOCATION:
CATEGORIES:Newsletter
ATTACH;FMTTYPE=image/png:https://greennewton.org/wp-content/uploads/2026/02/Untitled-design-10.png
END:VEVENT
BEGIN:VEVENT
DTSTART;TZID=America/New_York:20260219T180000
DTEND;TZID=America/New_York:20260219T190000
DTSTAMP:20260421T220713
CREATED:20260204T053123Z
LAST-MODIFIED:20260223T161632Z
UID:10000053-1771524000-1771527600@greennewton.org
SUMMARY:Efficient Water Heating for Newton Homes
DESCRIPTION:Water heating is one of the largest sources of energy use in homes—and a key opportunity for you to improve your home’s energy efficiency and reduce carbon emissions. If you are considering a water heater upgrade or replacement\, or just looking to be ready when it’s time to make this change\, understanding today’s options can help you lower energy bills\, improve comfort\, and support a cleaner energy future. \nThis free\, online evening information session is designed for Newton homeowners who want clear\, practical guidance on efficient and low-carbon water heating solutions\, without sales pressure or technical jargon. \nThe session will cover: \n\nHeat pump water heaters and how they can significantly reduce energy use and emissions\nSolar water heating and hybrid heat pump–solar systems for homes interested in renewable options\nTankless (on-demand) water heaters and when they may be a good fit\nA real-world case study showing how a homeowner evaluated options and made a decision\n\nThe focus will be on what matters most to residents—how these systems work in everyday life\, space and installation considerations\, efficiency\, and long-term value—so you can make informed choices for your home and be prepared. \nThis event is hosted by Green Newton\, the City of Newton Climate & Sustainability Team with local guest experts from Reservoir Home\, New England Solar Hot Water\, and Boston Tank Swap. \nPlease join us on Zoom for an evening conversation\, with plenty of time for your questions and discussion.  Click the link below to sign up for the Zoom link. \nGet the Zoom link
URL:https://greennewton.org/event/efficient-water-heating-webinar/
LOCATION:
ATTACH;FMTTYPE=image/png:https://greennewton.org/wp-content/uploads/2026/02/New-Website-Event-and-Blogpost-5.png
ORGANIZER;CN="Green Newton":MAILTO:info@greennewton.org
END:VEVENT
BEGIN:VEVENT
DTSTART;TZID=America/New_York:20260219T090000
DTEND;TZID=America/New_York:20260219T100000
DTSTAMP:20260421T220713
CREATED:20260215T011132Z
LAST-MODIFIED:20260215T011132Z
UID:10000063-1771491600-1771495200@greennewton.org
SUMMARY:Discussion of the Massachusetts 100-Home Embodied Carbon Study
DESCRIPTION:The recently released Massachusetts 100-Home Embodied Carbon Study is an analysis of the actual carbon impact\, both embodied and operational\, from a range of recent residential new construction. Join the Massachusetts Climate Action Network as Chris Magwood and Mélanie Trottier discuss the study’s results and advocacy implications\, including a proposal to integrate embodied-carbon into energy assessments currently conducted by HERS® Raters. The study was produced through a collaboration between the Northeast Home Energy Rating System Alliance\, Stephens & Company\, Ekotrope\, Builders for Climate Action\, and NMR Group. \nRegister
URL:https://greennewton.org/event/discussion-of-the-massachusetts-100-home-embodied-carbon-study/
LOCATION:
CATEGORIES:Newsletter
ATTACH;FMTTYPE=image/png:https://greennewton.org/wp-content/uploads/2026/02/Untitled-design-14.png
END:VEVENT
BEGIN:VEVENT
DTSTART;TZID=America/New_York:20260218T190000
DTEND;TZID=America/New_York:20260218T200000
DTSTAMP:20260421T220713
CREATED:20260215T005321Z
LAST-MODIFIED:20260215T005321Z
UID:10000062-1771441200-1771444800@greennewton.org
SUMMARY:Solar Without Federal Incentives: Why It Still Works
DESCRIPTION:Thinking about solar but not sure where to start? Learn how solar works\, typical paybacks\, financing options\, and how it can help lower energy costs while supporting a cleaner\, healthier community! Speaking will be representatives from Boston Solar\, a long time local installer\, and Wayland residents who have solar systems. Over 420 Wayland residents have installed solar systems – saving money and supporting a clean energy economy. \nThis event is sponsored by Energize Wayland. \nRegister
URL:https://greennewton.org/event/solar-without-federal-incentives-why-it-still-works/
LOCATION:
ATTACH;FMTTYPE=image/png:https://greennewton.org/wp-content/uploads/2026/02/Untitled-design-13.png
END:VEVENT
BEGIN:VEVENT
DTSTART;TZID=America/New_York:20260211T190000
DTEND;TZID=America/New_York:20260211T203000
DTSTAMP:20260421T220713
CREATED:20260202T170707Z
LAST-MODIFIED:20260210T000720Z
UID:10000048-1770836400-1770841800@greennewton.org
SUMMARY:Easy Ways We Can Help Heal Earth in the Sub/Urban Landscape
DESCRIPTION:The way we currently manage our suburban and urban landscapes is creating an ecological wasteland. Fortunately\, we have an alternative path: by working ​​with natural systems instead of against them\, we have the power to help Earth heal. \nSpeaker Basil Came will begin by discussing the functions of natural systems and how they’re being damaged by standard land care practices. Then he will delve into impactful ways we can take action\, from planting saplings and saving mature trees\, to creating pocket forests and replacing our lawns with Piedmont prairies. Finally\, for those who want to help shift paradigms even more\, Basil will introduce us to his initiative Project Pando\, which provides a model for community-based efforts that gather native seeds\, raise them into trees\, and give them away for free. \nThe event is sponsored by Grow Native Massachusetts. \nRegister
URL:https://greennewton.org/event/from-wasteland-to-wonder-easy-ways-we-can-help-heal-earth-in-the-sub-urban-landscape/
LOCATION:
CATEGORIES:Newsletter
ATTACH;FMTTYPE=image/png:https://greennewton.org/wp-content/uploads/2026/02/house-and-yard.png
END:VEVENT
BEGIN:VEVENT
DTSTART;TZID=America/New_York:20260211T120000
DTEND;TZID=America/New_York:20260211T130000
DTSTAMP:20260421T220713
CREATED:20260124T050000Z
LAST-MODIFIED:20260210T000836Z
UID:10000057-1770811200-1770814800@greennewton.org
SUMMARY:Learn if a Used EV is Right for You
DESCRIPTION:Used EVs provide all the benefits of driving on electricity – lower maintenance costs\, lower fuel costs\, and better driving experience – at a more affordable upfront price. Every year\, there are more and more used EVs and more varied models. Plus\, there are incentives available for the purchase of a used electric car in both Massachusetts and Rhode Island. Join Green Energy Consumers Alliance for this hour-long webinar to learn more about shopping for used EVs. \nRegister
URL:https://greennewton.org/event/learn-if-a-used-ev-right-is-for-you-on-february-11/
LOCATION:
CATEGORIES:Newsletter
ATTACH;FMTTYPE=image/png:https://greennewton.org/wp-content/uploads/2026/02/EVcharging.png
END:VEVENT
BEGIN:VEVENT
DTSTART;TZID=America/New_York:20260209T190000
DTEND;TZID=America/New_York:20260209T200000
DTSTAMP:20260421T220713
CREATED:20260202T173709Z
LAST-MODIFIED:20260203T025454Z
UID:10000051-1770663600-1770667200@greennewton.org
SUMMARY:Growing Climate Resilience: Charles River Regional Tree Planting and Protection Plan
DESCRIPTION:Monday\, February 9\, 7pm. Online. \nTrees are a climate solution: they mitigate flooding\, provide clean air\, and cool our neighborhoods. Yet the Charles River watershed is losing tree canopy at an alarming rate (an average of 6.9% per community across the watershed from 2008 to 2021).\nJoin the Charles River Watershed Association webinar to learn about CRWA’s 2025 Regional Tree Planting & Protection Plan for the Charles River watershed\, highlighting the recommendations for communities to protect\, maintain\, and grow our tree canopy. \nREGISTER \nQuestions? Contact Arrianna Proia\, aproia@crwa.org.
URL:https://greennewton.org/event/growing-climate-resilience-charles-river-regional-tree-planting-and-protection-plan/
LOCATION:MA
ATTACH;FMTTYPE=image/jpeg:https://greennewton.org/wp-content/uploads/2025/12/CharlesRiver-1.jpg
END:VEVENT
BEGIN:VEVENT
DTSTART;TZID=America/New_York:20260128T190000
DTEND;TZID=America/New_York:20260128T200000
DTSTAMP:20260421T220713
CREATED:20260108T170707Z
LAST-MODIFIED:20260202T145514Z
UID:10000047-1769626800-1769630400@greennewton.org
SUMMARY:The Problem with Plastic: How We Can Save Ourselves & Our Planet Before It’s Too Late
DESCRIPTION:Wednesday\, January 28\, 7pm. Online. \nPlastic production has increased exponentially since single-use plastic’s start\, from 2 million tons per year in 1950 to 450 million tons per year today. And production is expected to triple by 2060. Given that less than 6% of plastic is actually recycled in the United States\, all that plastic will continue to harm us\, our communities\, and our environment. \nThe good news is there’s still time to turn off the tap and live in a world without pointless plastic. That’s the hopeful message at the heart of the new book\, The Problem with Plastic: How We Can Save Ourselves and Our Planet Before It’s Too Late (December 2\, 2025\, The New Press).  Join co-authors Judith Enck\, Melissa Valliant\, and Adam Mahoney to learn more about the plastic pollution crisis and the solutions outlined in this bold new book. \nREGISTER
URL:https://greennewton.org/event/plastic-how-we-can-save-ourselves-our-planet-before-its-too-late/
LOCATION:MA
ATTACH;FMTTYPE=image/png:https://greennewton.org/wp-content/uploads/2026/01/plastic-1.png
END:VEVENT
BEGIN:VEVENT
DTSTART;TZID=America/New_York:20260113T193000
DTEND;TZID=America/New_York:20260113T210000
DTSTAMP:20260421T220713
CREATED:20260108T170523Z
LAST-MODIFIED:20260218T211838Z
UID:10000043-1768332600-1768338000@greennewton.org
SUMMARY:Green Drinks January 2026
DESCRIPTION:Join us January 13th at 7:30pm for Green Drinks at Baramor in Newton Centre. \nWant to meet others who care about the environment as much as you do? Head over to Baramor for the last Newton Green Drinks of the year. It’s a fun\, casual evening with people who are passionate about building a sustainable Newton – and beyond. Hope to see you there! \nIf you’d like to be notified about future gatherings\, contact organizer Brian Hodgson. \n 
URL:https://greennewton.org/event/green-drinks-january-2026/
LOCATION:MA
ATTACH;FMTTYPE=image/png:https://greennewton.org/wp-content/uploads/2026/01/Green-Drinks-Template-16-x-9-in.png
END:VEVENT
BEGIN:VEVENT
DTSTART;TZID=America/New_York:20260110T110000
DTEND;TZID=America/New_York:20260110T150000
DTSTAMP:20260421T220713
CREATED:20260108T170706Z
LAST-MODIFIED:20260131T020340Z
UID:10000045-1768042800-1768057200@greennewton.org
SUMMARY:Winter Seed Sowing Workshop
DESCRIPTION:Saturday\, January 10\, 11am-12:30pm or 1:30-3pm. Newton Free Library (330 Homer Street\, Newton). \nThis workshop will give you the tools you need to spark your own pollinator garden. Soil\, native seeds and one empty one-gallon milk jug will be provided\, and you will get to bring home your own mini-greenhouse in a bottle. You are invited to bring an extra one or two empty milk jugs if you want to plant and bring home a variety of seeds. \nWinter seed sowing is a technique for starting native plant seeds outdoors in containers during winter to create optimal conditions for germination and growth when spring returns. It mimics the natural process of seeds falling to the ground in autumn and being stratified by New England’s cold and wet winter weather\, while providing protection from critters and adverse weather\, resulting in a very high germination success rate. \nThere will be two identical sessions of this workshop. Please sign up for either the morning session (11am-12:30pm) or the afternoon session (1:30-3pm). \nSign Up for Morning Session \nSign Up for Afternoon Session \nThe program is co-sponsored by the Newton Free Library\, Newton Community Pollinator Project (NCPP)\, Newton Conservators\, and Friends of Cold Spring Park.
URL:https://greennewton.org/event/winter-seed-sowing-workshop/
LOCATION:MA
ATTACH;FMTTYPE=image/png:https://greennewton.org/wp-content/uploads/2025/12/seedling.png
END:VEVENT
END:VCALENDAR