BEGIN:VCALENDAR
VERSION:2.0
PRODID:-//Green Newton - ECPv6.15.18//NONSGML v1.0//EN
CALSCALE:GREGORIAN
METHOD:PUBLISH
X-ORIGINAL-URL:https://greennewton.org
X-WR-CALDESC:Events for Green Newton
REFRESH-INTERVAL;VALUE=DURATION:PT1H
X-Robots-Tag:noindex
X-PUBLISHED-TTL:PT1H
BEGIN:VTIMEZONE
TZID:America/New_York
BEGIN:DAYLIGHT
TZOFFSETFROM:-0500
TZOFFSETTO:-0400
TZNAME:EDT
DTSTART:20250309T070000
END:DAYLIGHT
BEGIN:STANDARD
TZOFFSETFROM:-0400
TZOFFSETTO:-0500
TZNAME:EST
DTSTART:20251102T060000
END:STANDARD
BEGIN:DAYLIGHT
TZOFFSETFROM:-0500
TZOFFSETTO:-0400
TZNAME:EDT
DTSTART:20260308T070000
END:DAYLIGHT
BEGIN:STANDARD
TZOFFSETFROM:-0400
TZOFFSETTO:-0500
TZNAME:EST
DTSTART:20261101T060000
END:STANDARD
BEGIN:DAYLIGHT
TZOFFSETFROM:-0500
TZOFFSETTO:-0400
TZNAME:EDT
DTSTART:20270314T070000
END:DAYLIGHT
BEGIN:STANDARD
TZOFFSETFROM:-0400
TZOFFSETTO:-0500
TZNAME:EST
DTSTART:20271107T060000
END:STANDARD
END:VTIMEZONE
BEGIN:VEVENT
DTSTART;TZID=America/New_York:20260526T190000
DTEND;TZID=America/New_York:20260526T200000
DTSTAMP:20260423T043633
CREATED:20260405T192148Z
LAST-MODIFIED:20260405T192148Z
UID:10000108-1779822000-1779825600@greennewton.org
SUMMARY:Little Bugs in the Big City: Urban Pollinator Habitat Gardening
DESCRIPTION:With urban real estate at such a premium\, how do our smallest neighbors – especially pollinating insects – make their way? What can we do to help them survive and thrive? In the concrete jungle\, is it worth it to even try? Over two decades\, speaker Chris Kreussling has transformed a barren conventional landscape into a vibrant example of urban gardening for biodiversity. Using their garden as an example\, they will review some typical challenges for urban gardeners and explain how to find and create habitat opportunities in city gardens.  \nChris Kreussling (Flatbush Gardener)\, a New York Master Naturalist and Certified Interpretive Guide\, has gardened in NYC for 45 years. In their current small Brooklyn garden\, they grow over 150 NYC-native plant species\, and documented over 500 insect species. \nRegister
URL:https://greennewton.org/event/little-bugs-in-the-big-city-urban-pollinator-habitat-gardening/
LOCATION:MA
ATTACH;FMTTYPE=image/png:https://greennewton.org/wp-content/uploads/2026/04/monarch-butterfly.png
END:VEVENT
END:VCALENDAR