BEGIN:VCALENDAR
VERSION:2.0
PRODID:-//Green Newton - ECPv6.15.18//NONSGML v1.0//EN
CALSCALE:GREGORIAN
METHOD:PUBLISH
X-ORIGINAL-URL:https://greennewton.org
X-WR-CALDESC:Events for Green Newton
REFRESH-INTERVAL;VALUE=DURATION:PT1H
X-Robots-Tag:noindex
X-PUBLISHED-TTL:PT1H
BEGIN:VTIMEZONE
TZID:America/New_York
BEGIN:DAYLIGHT
TZOFFSETFROM:-0500
TZOFFSETTO:-0400
TZNAME:EDT
DTSTART:20250309T070000
END:DAYLIGHT
BEGIN:STANDARD
TZOFFSETFROM:-0400
TZOFFSETTO:-0500
TZNAME:EST
DTSTART:20251102T060000
END:STANDARD
BEGIN:DAYLIGHT
TZOFFSETFROM:-0500
TZOFFSETTO:-0400
TZNAME:EDT
DTSTART:20260308T070000
END:DAYLIGHT
BEGIN:STANDARD
TZOFFSETFROM:-0400
TZOFFSETTO:-0500
TZNAME:EST
DTSTART:20261101T060000
END:STANDARD
BEGIN:DAYLIGHT
TZOFFSETFROM:-0500
TZOFFSETTO:-0400
TZNAME:EDT
DTSTART:20270314T070000
END:DAYLIGHT
BEGIN:STANDARD
TZOFFSETFROM:-0400
TZOFFSETTO:-0500
TZNAME:EST
DTSTART:20271107T060000
END:STANDARD
END:VTIMEZONE
BEGIN:VEVENT
DTSTART;TZID=America/New_York:20260518T180000
DTEND;TZID=America/New_York:20260518T210000
DTSTAMP:20260421T172250
CREATED:20260419T233709Z
LAST-MODIFIED:20260419T234113Z
UID:10000181-1779127200-1779138000@greennewton.org
SUMMARY:New Art Center Non-Toxic Painting Demo
DESCRIPTION:Have you wanted to explore oil painting but feel nervous about toxicity and fumes in your home? This workshop will give you in depth knowledge of a wide variety of ways that you can paint in your home and reduce your exposure to toxic chemicals and fumes. Through discussion\, handouts\, presentation\, demos\, hands-on testing of materials\, you will gain information on a variety of mediums and\, ways to oil paint without solvents\, how to clean brushes and dispose of materials safely\, which colors are toxic and which ones are not\, how to protect yourself from toxic paints\, how to set up a home studio\, methods to minimize fumes\, and more. Handouts will include information on eco-friendly painting and specific products to purchase for your home studio. \n\nRegister
URL:https://greennewton.org/event/new-art-center-non-toxic-painting-demo/
LOCATION:New Art Center\, 61 Washington Park\, Newton\, MA
CATEGORIES:Newsletter
ATTACH;FMTTYPE=image/png:https://greennewton.org/wp-content/uploads/2026/04/oil-paint.png
END:VEVENT
END:VCALENDAR