BEGIN:VCALENDAR
VERSION:2.0
PRODID:-//Green Newton - ECPv6.15.18//NONSGML v1.0//EN
CALSCALE:GREGORIAN
METHOD:PUBLISH
X-WR-CALNAME:Green Newton
X-ORIGINAL-URL:https://greennewton.org
X-WR-CALDESC:Events for Green Newton
REFRESH-INTERVAL;VALUE=DURATION:PT1H
X-Robots-Tag:noindex
X-PUBLISHED-TTL:PT1H
BEGIN:VTIMEZONE
TZID:America/New_York
BEGIN:DAYLIGHT
TZOFFSETFROM:-0500
TZOFFSETTO:-0400
TZNAME:EDT
DTSTART:20250309T070000
END:DAYLIGHT
BEGIN:STANDARD
TZOFFSETFROM:-0400
TZOFFSETTO:-0500
TZNAME:EST
DTSTART:20251102T060000
END:STANDARD
BEGIN:DAYLIGHT
TZOFFSETFROM:-0500
TZOFFSETTO:-0400
TZNAME:EDT
DTSTART:20260308T070000
END:DAYLIGHT
BEGIN:STANDARD
TZOFFSETFROM:-0400
TZOFFSETTO:-0500
TZNAME:EST
DTSTART:20261101T060000
END:STANDARD
BEGIN:DAYLIGHT
TZOFFSETFROM:-0500
TZOFFSETTO:-0400
TZNAME:EDT
DTSTART:20270314T070000
END:DAYLIGHT
BEGIN:STANDARD
TZOFFSETFROM:-0400
TZOFFSETTO:-0500
TZNAME:EST
DTSTART:20271107T060000
END:STANDARD
END:VTIMEZONE
BEGIN:VEVENT
DTSTART;TZID=America/New_York:20260506T190000
DTEND;TZID=America/New_York:20260506T203000
DTSTAMP:20260421T172123
CREATED:20260419T234829Z
LAST-MODIFIED:20260420T205714Z
UID:10000182-1778094000-1778099400@greennewton.org
SUMMARY:Greening Your Finances
DESCRIPTION:You have choices in every aspect of your financial life which can reduce or eliminate your participation in the funding of the fossil fuels which create pollution at every step of their lifecycle. A future with dramatically reduced fossil fuel use is possible. This program offers you ideas for how you can do it. \nThis event is free. \nRegister \n  \nScott Kadish is a Certified Financial Planner ™ and a Chartered Socially Responsible Investment Counselor™ who since 2010 has helped his clients in all aspects of their financial lives. He helps his clients invests with their values and co-create living financial plans. Scott lives in Newton\, Mass. In his free time\, he volunteers for several Climate action groups. He enjoys vegan cooking\, all kinds of exercising and spending time with his two daughters. \nAbout the presenters \n\nDavid Schreiber is an experienced CERTIFIED FINANCIAL PLANNER™ professional focused on socially responsible investing with a demonstrated history of working in the financial services industry. Skilled in Portfolio Management excluding fossil fuel exposure. Financial Planning\, Securities\, Asset Management\, and Retirement Planning. Strong finance professional with a Diploma focused in Viola performance from New England Conservatory of Music.. \n  \n  \n 
URL:https://greennewton.org/event/greening-your-finances/
LOCATION:
CATEGORIES:Newsletter
ATTACH;FMTTYPE=image/png:https://greennewton.org/wp-content/uploads/2026/04/family.png
END:VEVENT
END:VCALENDAR