BEGIN:VCALENDAR
VERSION:2.0
PRODID:-//Green Newton - ECPv6.15.18//NONSGML v1.0//EN
CALSCALE:GREGORIAN
METHOD:PUBLISH
X-ORIGINAL-URL:https://greennewton.org
X-WR-CALDESC:Events for Green Newton
REFRESH-INTERVAL;VALUE=DURATION:PT1H
X-Robots-Tag:noindex
X-PUBLISHED-TTL:PT1H
BEGIN:VTIMEZONE
TZID:America/New_York
BEGIN:DAYLIGHT
TZOFFSETFROM:-0500
TZOFFSETTO:-0400
TZNAME:EDT
DTSTART:20250309T070000
END:DAYLIGHT
BEGIN:STANDARD
TZOFFSETFROM:-0400
TZOFFSETTO:-0500
TZNAME:EST
DTSTART:20251102T060000
END:STANDARD
BEGIN:DAYLIGHT
TZOFFSETFROM:-0500
TZOFFSETTO:-0400
TZNAME:EDT
DTSTART:20260308T070000
END:DAYLIGHT
BEGIN:STANDARD
TZOFFSETFROM:-0400
TZOFFSETTO:-0500
TZNAME:EST
DTSTART:20261101T060000
END:STANDARD
BEGIN:DAYLIGHT
TZOFFSETFROM:-0500
TZOFFSETTO:-0400
TZNAME:EDT
DTSTART:20270314T070000
END:DAYLIGHT
BEGIN:STANDARD
TZOFFSETFROM:-0400
TZOFFSETTO:-0500
TZNAME:EST
DTSTART:20271107T060000
END:STANDARD
END:VTIMEZONE
BEGIN:VEVENT
DTSTART;TZID=America/New_York:20260502T150000
DTEND;TZID=America/New_York:20260502T173000
DTSTAMP:20260423T042028
CREATED:20260419T222806Z
LAST-MODIFIED:20260420T210118Z
UID:10000180-1777734000-1777743000@greennewton.org
SUMMARY:Join Green Newton at Screening of "Join or Die" and Club Fair
DESCRIPTION:The West Newton Cinema\, together with The Boston Club\, is hosting a special screening of “Join or Die” and a post screening “joining fair” with 15 area clubs and organizations. \n\n3-4:30pm – “Join or Die” screening\n4:30-5:30pm – Club Fair in the Cinema Lobby\n\n“Join or Die” is a film about why you should join a club—and why the fate of America may depend on it. Follow the story of America’s civic unraveling through the journey of legendary social scientist Robert Putnam\, whose viral “Bowling Alone” research into the decline in American community lights a path out of our democracy’s present crisis. The film shows that the solution is within reach: getting involved. \nAfter the film\, connect with local clubs and organizations\, including Green Newton\, Newton Free Library\, The Boston Club\, Ty Burr’s Movie Club\, The Highland Glee Club\, Newton Camera Club\, LGBTQ Newton\, Newton Rotary\, Newton Lions Club\, Newton Women’s Forum\, Rock Voices\, and more. Discover how you can turn inspiration into action by becoming part of a community. \nPurchase Tickets
URL:https://greennewton.org/event/join-green-newton-at-screening-of-join-or-die-and-club-fair/
LOCATION:West Newton Cinema\, 1296 Washington St.\, Newton\, MA
CATEGORIES:Newsletter
ATTACH;FMTTYPE=image/png:https://greennewton.org/wp-content/uploads/2026/04/join-or-die.png
END:VEVENT
END:VCALENDAR