BEGIN:VCALENDAR
VERSION:2.0
PRODID:-//Green Newton - ECPv6.15.18//NONSGML v1.0//EN
CALSCALE:GREGORIAN
METHOD:PUBLISH
X-ORIGINAL-URL:https://greennewton.org
X-WR-CALDESC:Events for Green Newton
REFRESH-INTERVAL;VALUE=DURATION:PT1H
X-Robots-Tag:noindex
X-PUBLISHED-TTL:PT1H
BEGIN:VTIMEZONE
TZID:America/New_York
BEGIN:DAYLIGHT
TZOFFSETFROM:-0500
TZOFFSETTO:-0400
TZNAME:EDT
DTSTART:20250309T070000
END:DAYLIGHT
BEGIN:STANDARD
TZOFFSETFROM:-0400
TZOFFSETTO:-0500
TZNAME:EST
DTSTART:20251102T060000
END:STANDARD
BEGIN:DAYLIGHT
TZOFFSETFROM:-0500
TZOFFSETTO:-0400
TZNAME:EDT
DTSTART:20260308T070000
END:DAYLIGHT
BEGIN:STANDARD
TZOFFSETFROM:-0400
TZOFFSETTO:-0500
TZNAME:EST
DTSTART:20261101T060000
END:STANDARD
BEGIN:DAYLIGHT
TZOFFSETFROM:-0500
TZOFFSETTO:-0400
TZNAME:EDT
DTSTART:20270314T070000
END:DAYLIGHT
BEGIN:STANDARD
TZOFFSETFROM:-0400
TZOFFSETTO:-0500
TZNAME:EST
DTSTART:20271107T060000
END:STANDARD
END:VTIMEZONE
BEGIN:VEVENT
DTSTART;TZID=America/New_York:20260429T140000
DTEND;TZID=America/New_York:20260429T153000
DTSTAMP:20260423T072650
CREATED:20260330T010908Z
LAST-MODIFIED:20260420T210235Z
UID:10000092-1777471200-1777476600@greennewton.org
SUMMARY:Is It Really Green? Unmasking Greenwashing
DESCRIPTION:Dr. Emily Oertling\, Assistant Professor of Fashion Merchandising and Management at California State University Sacramento\, will discuss how greenwashing shapes the way we think about sustainability\, why it remains so widespread\, and what we can do about it. \nDr. Oertling has spent her career championing sustainability in the classroom\, weaving eco-conscious practices and meaningful partnerships into the very fabric of fashion education. \nRegister
URL:https://greennewton.org/event/unmasking-greenwashing/
LOCATION:
ATTACH;FMTTYPE=image/png:https://greennewton.org/wp-content/uploads/2026/03/greenwashing.png
END:VEVENT
BEGIN:VEVENT
DTSTART;TZID=America/New_York:20260429T170000
DTEND;TZID=America/New_York:20260429T190000
DTSTAMP:20260423T072650
CREATED:20260330T204405Z
LAST-MODIFIED:20260405T222934Z
UID:10000095-1777482000-1777489200@greennewton.org
SUMMARY:Meet-Up for Women\, Trans\, and Non-Binary Folks in Design\, Construction\, and Engineering
DESCRIPTION:HELM Construction Solutions and the Studio for High-Performance Design and Construction will be hosting a Meet-Up for women\, trans\, and non-binary folks in design\, construction\, and engineering. Join us to connect\, share experiences\, and build a supportive community. Feel free to bring a friend or colleague — the more the merrier! We’ll provide non-alcoholic beverages and snacks.\n\nDate: April 29\, 2026\nTime: 5:00-7:00 pm\nLocation: SHPDC Barn\, 942 Chestnut St\, Newton Upper Falls\, MA\nFree!\n\nRSVP requested but not required
URL:https://greennewton.org/event/meet-up-for-women-trans-and-non-binary-folks-in-design-construction-and-engineering/
LOCATION:SHPDC Barn\, 942 Chestnut St\, Newton Upper Falls\, MA
ATTACH;FMTTYPE=application/pdf:https://greennewton.org/wp-content/uploads/2026/03/HELM-Meet-Up-photo.pdf
END:VEVENT
BEGIN:VEVENT
DTSTART;TZID=America/New_York:20260429T190000
DTEND;TZID=America/New_York:20260429T203000
DTSTAMP:20260423T072650
CREATED:20260420T205453Z
LAST-MODIFIED:20260420T205453Z
UID:10000185-1777489200-1777494600@greennewton.org
SUMMARY:What's Up with Affordable Housing in Newton?
DESCRIPTION:Join Newton For Everyone to take a look at affordable housing in Newton – what we have\, what approaches have resulted in affordable housing\, and what steps the City can take to ensure we have affordable housing in the years to come. \nThe Newton Housing Priorities Task Force was created to answer these questions. Their recently completed report can help guide the City on steps to take and on the most effective ways to use the funds of Newton’s Affordable Housing Trust. \nAnn Houston\, Chair of the Housing Trust and member of the Newton Fair and Affordable Housing Partnership\, will help us understand what the Task Force found\, what’s worked in the past to create affordable housing\, and where we should go from here. \n\nRSVP
URL:https://greennewton.org/event/whats-up-with-affordable-housing-in-newton/
LOCATION:Congregation Dorshei Tzedek\, 60 Highland Street\, Newton\, MA
CATEGORIES:Newsletter
ATTACH;FMTTYPE=image/png:https://greennewton.org/wp-content/uploads/2026/04/apartments.png
END:VEVENT
END:VCALENDAR