BEGIN:VCALENDAR
VERSION:2.0
PRODID:-//Green Newton - ECPv6.15.18//NONSGML v1.0//EN
CALSCALE:GREGORIAN
METHOD:PUBLISH
X-ORIGINAL-URL:https://greennewton.org
X-WR-CALDESC:Events for Green Newton
REFRESH-INTERVAL;VALUE=DURATION:PT1H
X-Robots-Tag:noindex
X-PUBLISHED-TTL:PT1H
BEGIN:VTIMEZONE
TZID:America/New_York
BEGIN:DAYLIGHT
TZOFFSETFROM:-0500
TZOFFSETTO:-0400
TZNAME:EDT
DTSTART:20250309T070000
END:DAYLIGHT
BEGIN:STANDARD
TZOFFSETFROM:-0400
TZOFFSETTO:-0500
TZNAME:EST
DTSTART:20251102T060000
END:STANDARD
BEGIN:DAYLIGHT
TZOFFSETFROM:-0500
TZOFFSETTO:-0400
TZNAME:EDT
DTSTART:20260308T070000
END:DAYLIGHT
BEGIN:STANDARD
TZOFFSETFROM:-0400
TZOFFSETTO:-0500
TZNAME:EST
DTSTART:20261101T060000
END:STANDARD
BEGIN:DAYLIGHT
TZOFFSETFROM:-0500
TZOFFSETTO:-0400
TZNAME:EDT
DTSTART:20270314T070000
END:DAYLIGHT
BEGIN:STANDARD
TZOFFSETFROM:-0400
TZOFFSETTO:-0500
TZNAME:EST
DTSTART:20271107T060000
END:STANDARD
END:VTIMEZONE
BEGIN:VEVENT
DTSTART;TZID=America/New_York:20260417T101500
DTEND;TZID=America/New_York:20260417T111500
DTSTAMP:20260421T154512
CREATED:20260405T203150Z
LAST-MODIFIED:20260405T222821Z
UID:10000109-1776420900-1776424500@greennewton.org
SUMMARY:Virtual Author Visit with Elizabeth Rusch
DESCRIPTION:The Newton Free Library invites everyone to join a youth-moderated discussion with Elizabeth Rusch\, an author of propulsive stories about climate change\, democracy\, and equal pay. Her writings on vital\, high-interest topics pose essential questions and celebrate human ingenuity and the power of collective action. Elizabeth is an award-winning author of more than 25 books for young readers\, including The Twenty-One\, A Greater Goal\, and You Call this Democracy? \nThe link for this virtual event will be sent the day before the event. \nBooks & audiobooks available on  Sora\,  NNHS &  NSHS libraries\, and the public library. You can also purchase Elizabeth’s books at Newtonville Books. \nRegister
URL:https://greennewton.org/event/virtual-author-visit-with-elizabeth-rusch/
LOCATION:
CATEGORIES:Newsletter
ATTACH;FMTTYPE=image/png:https://greennewton.org/wp-content/uploads/2026/04/reading.png
END:VEVENT
END:VCALENDAR