BEGIN:VCALENDAR
VERSION:2.0
PRODID:-//Green Newton - ECPv6.15.18//NONSGML v1.0//EN
CALSCALE:GREGORIAN
METHOD:PUBLISH
X-ORIGINAL-URL:https://greennewton.org
X-WR-CALDESC:Events for Green Newton
REFRESH-INTERVAL;VALUE=DURATION:PT1H
X-Robots-Tag:noindex
X-PUBLISHED-TTL:PT1H
BEGIN:VTIMEZONE
TZID:America/New_York
BEGIN:DAYLIGHT
TZOFFSETFROM:-0500
TZOFFSETTO:-0400
TZNAME:EDT
DTSTART:20250309T070000
END:DAYLIGHT
BEGIN:STANDARD
TZOFFSETFROM:-0400
TZOFFSETTO:-0500
TZNAME:EST
DTSTART:20251102T060000
END:STANDARD
BEGIN:DAYLIGHT
TZOFFSETFROM:-0500
TZOFFSETTO:-0400
TZNAME:EDT
DTSTART:20260308T070000
END:DAYLIGHT
BEGIN:STANDARD
TZOFFSETFROM:-0400
TZOFFSETTO:-0500
TZNAME:EST
DTSTART:20261101T060000
END:STANDARD
BEGIN:DAYLIGHT
TZOFFSETFROM:-0500
TZOFFSETTO:-0400
TZNAME:EDT
DTSTART:20270314T070000
END:DAYLIGHT
BEGIN:STANDARD
TZOFFSETFROM:-0400
TZOFFSETTO:-0500
TZNAME:EST
DTSTART:20271107T060000
END:STANDARD
END:VTIMEZONE
BEGIN:VEVENT
DTSTART;TZID=America/New_York:20260416T190000
DTEND;TZID=America/New_York:20260416T203000
DTSTAMP:20260421T154720
CREATED:20260309T012802Z
LAST-MODIFIED:20260414T000106Z
UID:10000074-1776366000-1776371400@greennewton.org
SUMMARY:How to Grow a Better 'Birdfeeder' in Your Yard
DESCRIPTION:Bird populations are declining at an alarming rate due to habitat loss\, climate change\, and pesticides. Fortunately\, there are simple actions you can take to restore critical bird habitat in your yards and gardens. In this free talk\, Conservation biologist Desirée L. Narango will share her research on the importance of native plants to food webs\, why insects matter for bird conservation\, and the practical steps you can take to support bird habitat throughout the year. \nThis event will be both in-person and online. There is no need to register for in-person attendance\, but please register to attend online. \nThe event is sponsored by Grow Native Massachusetts. \nRegister
URL:https://greennewton.org/event/how-to-grow-a-better-birdfeeder-in-your-yard/
LOCATION:First Parish Church\, 7 Harrington Road\, Lexington\, MA
ATTACH;FMTTYPE=image/png:https://greennewton.org/wp-content/uploads/2026/03/Untitled-design-3.png
ORGANIZER;CN="Green Newton":MAILTO:info@greennewton.org
END:VEVENT
END:VCALENDAR