BEGIN:VCALENDAR
VERSION:2.0
PRODID:-//Green Newton - ECPv6.15.18//NONSGML v1.0//EN
CALSCALE:GREGORIAN
METHOD:PUBLISH
X-WR-CALNAME:Green Newton
X-ORIGINAL-URL:https://greennewton.org
X-WR-CALDESC:Events for Green Newton
REFRESH-INTERVAL;VALUE=DURATION:PT1H
X-Robots-Tag:noindex
X-PUBLISHED-TTL:PT1H
BEGIN:VTIMEZONE
TZID:America/New_York
BEGIN:DAYLIGHT
TZOFFSETFROM:-0500
TZOFFSETTO:-0400
TZNAME:EDT
DTSTART:20250309T070000
END:DAYLIGHT
BEGIN:STANDARD
TZOFFSETFROM:-0400
TZOFFSETTO:-0500
TZNAME:EST
DTSTART:20251102T060000
END:STANDARD
BEGIN:DAYLIGHT
TZOFFSETFROM:-0500
TZOFFSETTO:-0400
TZNAME:EDT
DTSTART:20260308T070000
END:DAYLIGHT
BEGIN:STANDARD
TZOFFSETFROM:-0400
TZOFFSETTO:-0500
TZNAME:EST
DTSTART:20261101T060000
END:STANDARD
BEGIN:DAYLIGHT
TZOFFSETFROM:-0500
TZOFFSETTO:-0400
TZNAME:EDT
DTSTART:20270314T070000
END:DAYLIGHT
BEGIN:STANDARD
TZOFFSETFROM:-0400
TZOFFSETTO:-0500
TZNAME:EST
DTSTART:20271107T060000
END:STANDARD
END:VTIMEZONE
BEGIN:VEVENT
DTSTART;TZID=America/New_York:20260415T090000
DTEND;TZID=America/New_York:20260415T120000
DTSTAMP:20260423T053729
CREATED:20260323T011409Z
LAST-MODIFIED:20260414T000631Z
UID:10000088-1776243600-1776254400@greennewton.org
SUMMARY:Geothermal Solutions for Affordable Heating and Cooling
DESCRIPTION:Attend an Earth Month event exploring geothermal solutions for affordable heating and cooling. Learn about the benefits of ground-source heat pumps and geothermal networks\, and how to apply these solutions in our community and beyond. \nForum topics include: \n\ngeothermal technologies and how they work;\nlow\, predictable operating costs;\nfinancing structures\, ownership models\, incentives; and\nresilient\, healthy\, low-carbon systems.\n\nThis public event will explore the basics of geothermal and networked geothermal technologies\, where they make sense\, and strategies for implementation. Discussions will include real-world case studies from commercial\, institutional\, and mixed-use settings and will highlight low\, predictable operating costs; financing and ownership models; and incentives. Panelists will reflect on the potential for geothermal technology in Wellesley and beyond\, and participants are invited to tour the Wellesley Village Church’s new geothermal system. Hosted by the Climate Action Committee and the Wellesley Village Church. \nProgram Information: \n8:30-9am  Check-in\, tabling\, light breakfast\n9-11am  Program\n11am-12pm  Tours of the Village Church geothermal system\, tabling \nRegister
URL:https://greennewton.org/event/geothermal-solutions-for-affordable-heating-and-cooling/
LOCATION:Wellesley Village Church\, 2 Central Street\, Wellesley\, MA
ATTACH;FMTTYPE=image/png:https://greennewton.org/wp-content/uploads/2026/03/geothermal-condensers.png
END:VEVENT
END:VCALENDAR