BEGIN:VCALENDAR
VERSION:2.0
PRODID:-//Green Newton - ECPv6.15.18//NONSGML v1.0//EN
CALSCALE:GREGORIAN
METHOD:PUBLISH
X-WR-CALNAME:Green Newton
X-ORIGINAL-URL:https://greennewton.org
X-WR-CALDESC:Events for Green Newton
REFRESH-INTERVAL;VALUE=DURATION:PT1H
X-Robots-Tag:noindex
X-PUBLISHED-TTL:PT1H
BEGIN:VTIMEZONE
TZID:America/New_York
BEGIN:DAYLIGHT
TZOFFSETFROM:-0500
TZOFFSETTO:-0400
TZNAME:EDT
DTSTART:20250309T070000
END:DAYLIGHT
BEGIN:STANDARD
TZOFFSETFROM:-0400
TZOFFSETTO:-0500
TZNAME:EST
DTSTART:20251102T060000
END:STANDARD
BEGIN:DAYLIGHT
TZOFFSETFROM:-0500
TZOFFSETTO:-0400
TZNAME:EDT
DTSTART:20260308T070000
END:DAYLIGHT
BEGIN:STANDARD
TZOFFSETFROM:-0400
TZOFFSETTO:-0500
TZNAME:EST
DTSTART:20261101T060000
END:STANDARD
BEGIN:DAYLIGHT
TZOFFSETFROM:-0500
TZOFFSETTO:-0400
TZNAME:EDT
DTSTART:20270314T070000
END:DAYLIGHT
BEGIN:STANDARD
TZOFFSETFROM:-0400
TZOFFSETTO:-0500
TZNAME:EST
DTSTART:20271107T060000
END:STANDARD
END:VTIMEZONE
BEGIN:VEVENT
DTSTART;TZID=America/New_York:20260409T190000
DTEND;TZID=America/New_York:20260409T203000
DTSTAMP:20260423T043407
CREATED:20260330T004238Z
LAST-MODIFIED:20260406T223135Z
UID:10000090-1775761200-1775766600@greennewton.org
SUMMARY:The Extraordinary Caterpillar Film Showing
DESCRIPTION:Join the Newton Conservators for the newly released The Extraordinary Caterpillar movie\, which features Sam Jaffe of the Caterpillar Lab (who grew up in Newton)\, Doug Tallamy\, and David Wagner. \nAfter the 60-minute film\, Sam will join us for a Q&A session\, with some caterpillars as his guests. \nOver 98% of the living world on Earth is smaller than a bee. Yet humans view the planet as a world centered around themselves. Landscapes are deconstructed to suit human needs\, often with little regard for the natural systems that sustain the food web. The Extraordinary Caterpillar follows the scientists and community activists with this peek into the dazzling world of nature’s tiniest superheroes. \nRegistration is limited so if you sign up and find you can’t attend\, please click the link in the email you get from Zoom (no-reply@zoom.us) to cancel so that someone else can see the movie. \nIf you have questions\, please contact: Webinars@newtonconservators.org. \nRegister
URL:https://greennewton.org/event/the-extraordinary-caterpillar-film-showing/
LOCATION:
ATTACH;FMTTYPE=image/png:https://greennewton.org/wp-content/uploads/2026/03/caterpillar-movie.png
END:VEVENT
END:VCALENDAR