BEGIN:VCALENDAR
VERSION:2.0
PRODID:-//Green Newton - ECPv6.15.18//NONSGML v1.0//EN
CALSCALE:GREGORIAN
METHOD:PUBLISH
X-ORIGINAL-URL:https://greennewton.org
X-WR-CALDESC:Events for Green Newton
REFRESH-INTERVAL;VALUE=DURATION:PT1H
X-Robots-Tag:noindex
X-PUBLISHED-TTL:PT1H
BEGIN:VTIMEZONE
TZID:America/New_York
BEGIN:DAYLIGHT
TZOFFSETFROM:-0500
TZOFFSETTO:-0400
TZNAME:EDT
DTSTART:20250309T070000
END:DAYLIGHT
BEGIN:STANDARD
TZOFFSETFROM:-0400
TZOFFSETTO:-0500
TZNAME:EST
DTSTART:20251102T060000
END:STANDARD
BEGIN:DAYLIGHT
TZOFFSETFROM:-0500
TZOFFSETTO:-0400
TZNAME:EDT
DTSTART:20260308T070000
END:DAYLIGHT
BEGIN:STANDARD
TZOFFSETFROM:-0400
TZOFFSETTO:-0500
TZNAME:EST
DTSTART:20261101T060000
END:STANDARD
BEGIN:DAYLIGHT
TZOFFSETFROM:-0500
TZOFFSETTO:-0400
TZNAME:EDT
DTSTART:20270314T070000
END:DAYLIGHT
BEGIN:STANDARD
TZOFFSETFROM:-0400
TZOFFSETTO:-0500
TZNAME:EST
DTSTART:20271107T060000
END:STANDARD
END:VTIMEZONE
BEGIN:VEVENT
DTSTART;TZID=America/New_York:20260329T140000
DTEND;TZID=America/New_York:20260329T160000
DTSTAMP:20260423T053906
CREATED:20260222T231905Z
LAST-MODIFIED:20260316T231645Z
UID:10000068-1774792800-1774800000@greennewton.org
SUMMARY:'How Not to Die' Film and Q&A
DESCRIPTION:Did you know that plant-based eating is good for your health as well as the environment? The UU Plant-Based Eating Club will host a screening of How Not to Die\, a powerful new documentary movie about the relationship between diet and health\, followed by a live Q&A with physicians from Plant Docs. The event is free and will be held at the First Unitarian Universalist Society in Newton. Learn more here. \nREGISTERIn addition to slashing greenhouse gases and conserving water and soil\, moving towards a plant-based diet significantly benefits human health. Yet\, many people wonder whether they can get adequate nutrition on a plant-based diet and how convenient it would be. \nHow Not to Die is a bold new feature documentary that confronts the greatest threat to human health—our diet. Based on the international bestselling book of the same name by Dr. Michael Greger\, this movie plays like a fast-paced action thriller but is packed with hard-hitting data that just might save your life. How Not to Die exposes the role of the standard Western diet in fueling today’s most widespread illnesses. The run time is 1 hour and 18 minutes. \nThe movie will be followed by a live Q&A with physicians from Plant Docs\, a nonprofit organization that uses a physician-led approach to help people add more unprocessed\, plant-based foods to their lives so that they can feel better and live healthier. Plant Docs educates the public and medical professionals about how whole food\, plant-based nutrition can prevent\, improve\, and reverse chronic diseases such as type 2 diabetes\, obesity\, heart disease\, auto-immune diseases\, and certain cancers. \nThe event is sponsored by the UU Plant-Based Eating Club\, housed at the First Unitarian Universalist Society in Newton (FUUSN). All are welcome\, including those who eat a traditional American diet and are considering whether to make changes.
URL:https://greennewton.org/event/3890/
LOCATION:First Unitarian Universalist Society in Newton\, 1326 Washington Street\, West Newton\, MA
CATEGORIES:Newsletter
ATTACH;FMTTYPE=image/png:https://greennewton.org/wp-content/uploads/2026/02/how-not-to-die-film.png
END:VEVENT
END:VCALENDAR