BEGIN:VCALENDAR
VERSION:2.0
PRODID:-//Green Newton - ECPv6.15.18//NONSGML v1.0//EN
CALSCALE:GREGORIAN
METHOD:PUBLISH
X-ORIGINAL-URL:https://greennewton.org
X-WR-CALDESC:Events for Green Newton
REFRESH-INTERVAL;VALUE=DURATION:PT1H
X-Robots-Tag:noindex
X-PUBLISHED-TTL:PT1H
BEGIN:VTIMEZONE
TZID:America/New_York
BEGIN:DAYLIGHT
TZOFFSETFROM:-0500
TZOFFSETTO:-0400
TZNAME:EDT
DTSTART:20250309T070000
END:DAYLIGHT
BEGIN:STANDARD
TZOFFSETFROM:-0400
TZOFFSETTO:-0500
TZNAME:EST
DTSTART:20251102T060000
END:STANDARD
BEGIN:DAYLIGHT
TZOFFSETFROM:-0500
TZOFFSETTO:-0400
TZNAME:EDT
DTSTART:20260308T070000
END:DAYLIGHT
BEGIN:STANDARD
TZOFFSETFROM:-0400
TZOFFSETTO:-0500
TZNAME:EST
DTSTART:20261101T060000
END:STANDARD
BEGIN:DAYLIGHT
TZOFFSETFROM:-0500
TZOFFSETTO:-0400
TZNAME:EDT
DTSTART:20270314T070000
END:DAYLIGHT
BEGIN:STANDARD
TZOFFSETFROM:-0400
TZOFFSETTO:-0500
TZNAME:EST
DTSTART:20271107T060000
END:STANDARD
END:VTIMEZONE
BEGIN:VEVENT
DTSTART;TZID=America/New_York:20260325T170000
DTEND;TZID=America/New_York:20260325T180000
DTSTAMP:20260423T060141
CREATED:20260316T235428Z
LAST-MODIFIED:20260316T235428Z
UID:10000084-1774458000-1774461600@greennewton.org
SUMMARY:What do the Yellow Flags Mean? A Talk about Commercial Pesticide Applications
DESCRIPTION:Join the Massachusetts Sierra Club for a talk on everything you’ve ever wanted to know about commercial pesticide applications. Find out what are your rights pre- and post-application as a customer and neighbor. Dr. Rosemary Malfi will present on enhancements to the application notification process that have been proposed by state Conservationist Pesticide Advisory Council (CPAC). \nRosemary Malfi\, Ph.D.\, is Director of Conservation Policy at The Xerces Society for Invertebrate Conservation. She served for five years on state CPAC and is now on the state Pesticide Board. \nClint Richmond\, Chapter Conservation Chair and CPAC Chair\, will serve as the Moderator. \nRegister
URL:https://greennewton.org/event/what-do-the-yellow-flags-mean-a-talk-about-commercial-pesticide-applications/
LOCATION:
CATEGORIES:Newsletter
ATTACH;FMTTYPE=image/png:https://greennewton.org/wp-content/uploads/2026/03/kids-lawn.png
END:VEVENT
END:VCALENDAR