BEGIN:VCALENDAR
VERSION:2.0
PRODID:-//Green Newton - ECPv6.15.18//NONSGML v1.0//EN
CALSCALE:GREGORIAN
METHOD:PUBLISH
X-WR-CALNAME:Green Newton
X-ORIGINAL-URL:https://greennewton.org
X-WR-CALDESC:Events for Green Newton
REFRESH-INTERVAL;VALUE=DURATION:PT1H
X-Robots-Tag:noindex
X-PUBLISHED-TTL:PT1H
BEGIN:VTIMEZONE
TZID:America/New_York
BEGIN:DAYLIGHT
TZOFFSETFROM:-0500
TZOFFSETTO:-0400
TZNAME:EDT
DTSTART:20250309T070000
END:DAYLIGHT
BEGIN:STANDARD
TZOFFSETFROM:-0400
TZOFFSETTO:-0500
TZNAME:EST
DTSTART:20251102T060000
END:STANDARD
BEGIN:DAYLIGHT
TZOFFSETFROM:-0500
TZOFFSETTO:-0400
TZNAME:EDT
DTSTART:20260308T070000
END:DAYLIGHT
BEGIN:STANDARD
TZOFFSETFROM:-0400
TZOFFSETTO:-0500
TZNAME:EST
DTSTART:20261101T060000
END:STANDARD
BEGIN:DAYLIGHT
TZOFFSETFROM:-0500
TZOFFSETTO:-0400
TZNAME:EDT
DTSTART:20270314T070000
END:DAYLIGHT
BEGIN:STANDARD
TZOFFSETFROM:-0400
TZOFFSETTO:-0500
TZNAME:EST
DTSTART:20271107T060000
END:STANDARD
END:VTIMEZONE
BEGIN:VEVENT
DTSTART;TZID=America/New_York:20260307T190000
DTEND;TZID=America/New_York:20260307T201500
DTSTAMP:20260423T053809
CREATED:20260222T224050Z
LAST-MODIFIED:20260304T221247Z
UID:10000067-1772910000-1772914500@greennewton.org
SUMMARY:Planet in Sound: From Antarctica to Home Through Music
DESCRIPTION:Planet in Sound: From Antarctica to Home invites you on a musical journey across our planet’s most breathtaking landscapes\, from the vast\, frozen silence of Antarctica to the warmth and intimacy of human expression. Through music inspired by nature\, earth\, and belonging\, this concert transforms the planet into a living soundscape\, reminding us that even the most distant places are deeply connected to our inner world. Donations to ArsNova are welcome but not required. \nPraised by Sing Tao Daily for “bringing the audience into a different sound world with her vibrant tones\,” pianist Anran Qian is a versatile and compelling artist whose performances have taken her across Asia\, Europe\, and North America. Joined by guitarist and composer Dr. Alberta Khoury\, an Australian-born musician celebrated for her powerful artistry and praised by The New York Times as “a seven-minute tour de force\,” the duo brings together two vivid musical voices united by imagination\, depth\, and storytelling. \nTogether\, they create a concert experience that is both expansive and intimate: where ice meets earth\, sound becomes landscape\, and music becomes a bridge between the planet we explore and the home we carry within. \nRegister
URL:https://greennewton.org/event/planet-in-sound-from-antarctica-to-home-in-music/
LOCATION:Newton Presbyterian Church\, 75 Vernon St.\, Newton\, MA\, 02458\, United States
CATEGORIES:Newsletter
ATTACH;FMTTYPE=image/png:https://greennewton.org/wp-content/uploads/2026/02/Untitled-design-21.png
END:VEVENT
END:VCALENDAR