BEGIN:VCALENDAR
VERSION:2.0
PRODID:-//Green Newton - ECPv6.15.18//NONSGML v1.0//EN
CALSCALE:GREGORIAN
METHOD:PUBLISH
X-ORIGINAL-URL:https://greennewton.org
X-WR-CALDESC:Events for Green Newton
REFRESH-INTERVAL;VALUE=DURATION:PT1H
X-Robots-Tag:noindex
X-PUBLISHED-TTL:PT1H
BEGIN:VTIMEZONE
TZID:America/New_York
BEGIN:DAYLIGHT
TZOFFSETFROM:-0500
TZOFFSETTO:-0400
TZNAME:EDT
DTSTART:20250309T070000
END:DAYLIGHT
BEGIN:STANDARD
TZOFFSETFROM:-0400
TZOFFSETTO:-0500
TZNAME:EST
DTSTART:20251102T060000
END:STANDARD
BEGIN:DAYLIGHT
TZOFFSETFROM:-0500
TZOFFSETTO:-0400
TZNAME:EDT
DTSTART:20260308T070000
END:DAYLIGHT
BEGIN:STANDARD
TZOFFSETFROM:-0400
TZOFFSETTO:-0500
TZNAME:EST
DTSTART:20261101T060000
END:STANDARD
BEGIN:DAYLIGHT
TZOFFSETFROM:-0500
TZOFFSETTO:-0400
TZNAME:EDT
DTSTART:20270314T070000
END:DAYLIGHT
BEGIN:STANDARD
TZOFFSETFROM:-0400
TZOFFSETTO:-0500
TZNAME:EST
DTSTART:20271107T060000
END:STANDARD
END:VTIMEZONE
BEGIN:VEVENT
DTSTART;TZID=America/New_York:20260305T110000
DTEND;TZID=America/New_York:20260305T120000
DTSTAMP:20260421T172346
CREATED:20260301T224346Z
LAST-MODIFIED:20260301T224533Z
UID:10000070-1772708400-1772712000@greennewton.org
SUMMARY:Reducing Food Waste in Schools
DESCRIPTION:1/5 of waste generated in Massachusetts is food waste. Learn how schools are taking the lead to divert food waste in their cafeterias and kitchens. We’ll hear from: \n\nRachel Oliveri\, Sustainability Director at Arlington Public Schools;\nHeather Billings\, Senior Waste Reduction Consultant at RecycleWorks MA; and\nKylie Hanson\, Policy Associate\, Frontier Group\, alongside Zero Waste MA coalition members.\n\nThis event is sponsored by Clean Water Action\, MassPirg\, Community Action Works\, and Conservation Law Foundation. \nRegister
URL:https://greennewton.org/event/reducing-food-waste-in-schools/
LOCATION:
CATEGORIES:Newsletter
ATTACH;FMTTYPE=image/png:https://greennewton.org/wp-content/uploads/2026/02/Untitled-design-8.png
END:VEVENT
BEGIN:VEVENT
DTSTART;TZID=America/New_York:20260305T190000
DTEND;TZID=America/New_York:20260305T200000
DTSTAMP:20260421T172346
CREATED:20260215T000001Z
LAST-MODIFIED:20260215T000015Z
UID:10000061-1772737200-1772740800@greennewton.org
SUMMARY:Vernal Pools and Their Special Ecology
DESCRIPTION:Seasonal ponds\, known as vernal pools\, are full of life and can be found throughout our area. Newton has several\, including Bare Pond in Webster Woods. Join Newton Conservators’ Barbara Bates to discover how these pools form\, their unique ecology\, and the life stories of the invertebrates and amphibians who inhabit these pools. See fairy shrimp\, salamanders\, wood frogs\, and many more. \nBarbara is a teacher\, naturalist\, and a Newton Conservators’ board member. \nIf you have questions\, please contact Webinars@newtonconservators.org. \nRegister
URL:https://greennewton.org/event/vernal-pools-and-their-special-ecology/
LOCATION:
CATEGORIES:Newsletter
ATTACH;FMTTYPE=image/png:https://greennewton.org/wp-content/uploads/2026/02/Untitled-design-12.png
END:VEVENT
END:VCALENDAR