BEGIN:VCALENDAR
VERSION:2.0
PRODID:-//Green Newton - ECPv6.15.18//NONSGML v1.0//EN
CALSCALE:GREGORIAN
METHOD:PUBLISH
X-WR-CALNAME:Green Newton
X-ORIGINAL-URL:https://greennewton.org
X-WR-CALDESC:Events for Green Newton
REFRESH-INTERVAL;VALUE=DURATION:PT1H
X-Robots-Tag:noindex
X-PUBLISHED-TTL:PT1H
BEGIN:VTIMEZONE
TZID:America/New_York
BEGIN:DAYLIGHT
TZOFFSETFROM:-0500
TZOFFSETTO:-0400
TZNAME:EDT
DTSTART:20250309T070000
END:DAYLIGHT
BEGIN:STANDARD
TZOFFSETFROM:-0400
TZOFFSETTO:-0500
TZNAME:EST
DTSTART:20251102T060000
END:STANDARD
BEGIN:DAYLIGHT
TZOFFSETFROM:-0500
TZOFFSETTO:-0400
TZNAME:EDT
DTSTART:20260308T070000
END:DAYLIGHT
BEGIN:STANDARD
TZOFFSETFROM:-0400
TZOFFSETTO:-0500
TZNAME:EST
DTSTART:20261101T060000
END:STANDARD
BEGIN:DAYLIGHT
TZOFFSETFROM:-0500
TZOFFSETTO:-0400
TZNAME:EDT
DTSTART:20270314T070000
END:DAYLIGHT
BEGIN:STANDARD
TZOFFSETFROM:-0400
TZOFFSETTO:-0500
TZNAME:EST
DTSTART:20271107T060000
END:STANDARD
END:VTIMEZONE
BEGIN:VEVENT
DTSTART;TZID=America/New_York:20260226T120000
DTEND;TZID=America/New_York:20260226T130000
DTSTAMP:20260425T084502
CREATED:20260207T215454Z
LAST-MODIFIED:20260219T103120Z
UID:10000054-1772107200-1772110800@greennewton.org
SUMMARY:How to Save Money on an Electric Car in Massachusetts
DESCRIPTION:Massachusetts has had a rebate for electric cars since 2014\, called MOR-EV. During this webinar\, we’ll go over the rebate in depth. \nWe’ll talk about: \n\nthe rebate for new and used cars\,\nthe larger rebate for income-qualified residents\,\nthe rebate for trucks\, and\nhow to access the rebate at the dealership or at home after purchase.\n\nThis event is sponsored by Green Energy Consumers Alliance.\nRegister
URL:https://greennewton.org/event/how-to-save-money-on-an-electric-car-in-massachusetts/
LOCATION:
CATEGORIES:Newsletter
ATTACH;FMTTYPE=image/png:https://greennewton.org/wp-content/uploads/2026/02/Untitled-design-1.png
END:VEVENT
END:VCALENDAR