BEGIN:VCALENDAR
VERSION:2.0
PRODID:-//Green Newton - ECPv6.15.18//NONSGML v1.0//EN
CALSCALE:GREGORIAN
METHOD:PUBLISH
X-WR-CALNAME:Green Newton
X-ORIGINAL-URL:https://greennewton.org
X-WR-CALDESC:Events for Green Newton
REFRESH-INTERVAL;VALUE=DURATION:PT1H
X-Robots-Tag:noindex
X-PUBLISHED-TTL:PT1H
BEGIN:VTIMEZONE
TZID:America/New_York
BEGIN:DAYLIGHT
TZOFFSETFROM:-0500
TZOFFSETTO:-0400
TZNAME:EDT
DTSTART:20250309T070000
END:DAYLIGHT
BEGIN:STANDARD
TZOFFSETFROM:-0400
TZOFFSETTO:-0500
TZNAME:EST
DTSTART:20251102T060000
END:STANDARD
BEGIN:DAYLIGHT
TZOFFSETFROM:-0500
TZOFFSETTO:-0400
TZNAME:EDT
DTSTART:20260308T070000
END:DAYLIGHT
BEGIN:STANDARD
TZOFFSETFROM:-0400
TZOFFSETTO:-0500
TZNAME:EST
DTSTART:20261101T060000
END:STANDARD
BEGIN:DAYLIGHT
TZOFFSETFROM:-0500
TZOFFSETTO:-0400
TZNAME:EDT
DTSTART:20270314T070000
END:DAYLIGHT
BEGIN:STANDARD
TZOFFSETFROM:-0400
TZOFFSETTO:-0500
TZNAME:EST
DTSTART:20271107T060000
END:STANDARD
END:VTIMEZONE
BEGIN:VEVENT
DTSTART;TZID=America/New_York:20260218T190000
DTEND;TZID=America/New_York:20260218T200000
DTSTAMP:20260421T220308
CREATED:20260215T005321Z
LAST-MODIFIED:20260215T005321Z
UID:10000062-1771441200-1771444800@greennewton.org
SUMMARY:Solar Without Federal Incentives: Why It Still Works
DESCRIPTION:Thinking about solar but not sure where to start? Learn how solar works\, typical paybacks\, financing options\, and how it can help lower energy costs while supporting a cleaner\, healthier community! Speaking will be representatives from Boston Solar\, a long time local installer\, and Wayland residents who have solar systems. Over 420 Wayland residents have installed solar systems – saving money and supporting a clean energy economy. \nThis event is sponsored by Energize Wayland. \nRegister
URL:https://greennewton.org/event/solar-without-federal-incentives-why-it-still-works/
LOCATION:
ATTACH;FMTTYPE=image/png:https://greennewton.org/wp-content/uploads/2026/02/Untitled-design-13.png
END:VEVENT
END:VCALENDAR